Back to Multiple platform build/check report
Package: panp |
Version: 1.2.0 |
Command: D:\biocbld\R-2.3.0\bin\R.exe CMD build panp |
RetCode: 0 |
Time: 29.5 seconds |
Status: OK |
PackageFile: panp_1.2.0.tar.gz |
* checking for file 'panp/DESCRIPTION' ... OK * preparing 'panp': * checking DESCRIPTION meta-information ... OK * installing the package to re-build vignettes installing R.css in D:/biocbld/work-area/1.8d/tmpdir/Rinst420894949 ---------- Making package panp ------------ adding build stamp to DESCRIPTION installing R files installing inst files installing data files installing man source files Warning messages: 1: incomplete final line found by readLines on './man/NSMPnames.hgu133a.Rd' 2: incomplete final line found by readLines on './man/NSMPnames.hgu133plus2.Rd' 3: incomplete final line found by readLines on './man/gcrma.exprSet.Rd' 4: incomplete final line found by readLines on './man/test133a.Rd' installing indices not zipping data installing help >>> Building/Updating help pages for package 'panp' Formats: text html latex example chm NSMPnames.hgu133a text html latex chm NSMPnames.hgu133plus2 text html latex chm gcrma.exprSet text html latex chm pa.calls text html latex example chm test133a text html latex chm Microsoft HTML Help Compiler 4.74.8702 Compiling d:\biocbld\work-area\1.8d\madman\Rpacks\panp\chm\panp.chm Compile time: 0 minutes, 0 seconds 6 Topics 10 Local links 0 Internet links 1 Graphic Created d:\biocbld\work-area\1.8d\madman\Rpacks\panp\chm\panp.chm, 20,843 bytes Compression increased file by 4,671 bytes. adding MD5 sums * DONE (panp) * creating vignettes ... OK * removing junk files * excluding invalid files from 'panp' Subdirectory 'man' contains invalid file names: README * checking for LF line-endings in source files * checking for empty or unneeded directories * building 'panp_1.2.0.tar.gz'