Back to Multiple platform build/check report
Package: plgem |
Version: 1.4.0 |
Command: D:\biocbld\R-2.3.0\bin\R.exe CMD build plgem |
RetCode: 0 |
Time: 50.5 seconds |
Status: OK |
PackageFile: plgem_1.4.0.tar.gz |
* checking for file 'plgem/DESCRIPTION' ... OK * preparing 'plgem': * checking DESCRIPTION meta-information ... OK * installing the package to re-build vignettes installing R.css in D:/biocbld/work-area/1.8d/tmpdir/Rinst641277770 ---------- Making package plgem ------------ adding build stamp to DESCRIPTION installing R files installing inst files installing data files installing man source files installing indices not zipping data installing help >>> Building/Updating help pages for package 'plgem' Formats: text html latex example chm LPSeset text html latex example chm plgem.deg text html latex example chm plgem.fit text html latex example chm plgem.obsStn text html latex example chm run.plgem text html latex example chm Microsoft HTML Help Compiler 4.74.8702 Compiling d:\biocbld\work-area\1.8d\madman\Rpacks\plgem\chm\plgem.chm Compile time: 0 minutes, 0 seconds 6 Topics 25 Local links 5 Internet links 1 Graphic Created d:\biocbld\work-area\1.8d\madman\Rpacks\plgem\chm\plgem.chm, 24,951 bytes Compression decreased file by 1,617 bytes. adding MD5 sums * DONE (plgem) * creating vignettes ... OK * removing junk files * checking for LF line-endings in source files * checking for empty or unneeded directories * building 'plgem_1.4.0.tar.gz'