Back to Multiple platform build/check report
Package: sagenhaft |
Version: 1.4.0 |
Command: D:\biocbld\R-2.3.0\bin\R.exe CMD build sagenhaft |
RetCode: 0 |
Time: 23.5 seconds |
Status: OK |
PackageFile: sagenhaft_1.4.0.tar.gz |
* checking for file 'sagenhaft/DESCRIPTION' ... OK * preparing 'sagenhaft': * checking DESCRIPTION meta-information ... OK * checking whether 'INDEX' is up-to-date ... NO * use '--force' to overwrite the existing 'INDEX' * installing the package to re-build vignettes installing R.css in D:/biocbld/work-area/1.8d/tmpdir/Rinst513645510 ---------- Making package sagenhaft ------------ adding build stamp to DESCRIPTION installing R files installing inst files installing data files installing man source files installing indices not zipping data installing help >>> Building/Updating help pages for package 'sagenhaft' Formats: text html latex example chm error.correction text html latex example chm extract.lib text html latex example chm sage.library text html latex example chm sage.library.comparison text html latex example chm sage.test text html latex example chm sage.utilities text html latex example chm sagelibrary.simulate text html latex example chm Microsoft HTML Help Compiler 4.74.8702 Compiling d:\biocbld\work-area\1.8d\madman\Rpacks\sagenhaft\chm\sagenhaft.chm Compile time: 0 minutes, 0 seconds 8 Topics 42 Local links 5 Internet links 1 Graphic Created d:\biocbld\work-area\1.8d\madman\Rpacks\sagenhaft\chm\sagenhaft.chm, 27,779 bytes Compression decreased file by 11,435 bytes. preparing package sagenhaft for lazy loading adding MD5 sums * DONE (sagenhaft) * creating vignettes ... OK * removing junk files * checking for LF line-endings in source files * checking for empty or unneeded directories * building 'sagenhaft_1.4.0.tar.gz'