Back to Multiple platform build/check report
Package: spotSegmentation |
Version: 1.4.0 |
Command: D:\biocbld\R-2.3.0\bin\R.exe CMD INSTALL --build spotSegmentation_1.4.0.tar.gz |
RetCode: 0 |
Time: 10.0 seconds |
Status: OK |
PackageFile: spotSegmentation_1.4.0.zip |
Using auto-selected zip options 'spotSegmentation-ZIPDATA=zip' ---------- Making package spotSegmentation ------------ adding build stamp to DESCRIPTION installing R files installing inst files installing data files installing man source files installing indices zipping data installing help >>> Building/Updating help pages for package 'spotSegmentation' Formats: text html latex example chm plot.spotseg text html latex example chm plotBlockImage text html latex example chm spotSegTest text html latex chm spotgrid text html latex example chm spotseg text html latex example chm summary.spotseg text html latex example chm Microsoft HTML Help Compiler 4.74.8702 Compiling d:\biocbld\work-area\1.8d\madman\Rpacks\R.INSTALL\spotSegmentation\chm\spotSegmentation.chm Compile time: 0 minutes, 0 seconds 7 Topics 19 Local links 1 Internet link 1 Graphic Created d:\biocbld\work-area\1.8d\madman\Rpacks\R.INSTALL\spotSegmentation\chm\spotSegmentation.chm, 23,991 bytes Compression decreased file by 453 bytes. preparing package spotSegmentation for lazy loading adding MD5 sums packaged installation of package 'spotSegmentation' as spotSegmentation_1.4.0.zip * DONE (spotSegmentation)