Back to Multiple platform build/check report
Package: tilingArray |
Version: 1.10.0 |
Command: D:\biocbld\R-2.3.0\bin\R.exe CMD build tilingArray |
RetCode: 0 |
Time: 38.5 seconds |
Status: OK |
PackageFile: tilingArray_1.10.0.tar.gz |
* checking for file 'tilingArray/DESCRIPTION' ... OK * preparing 'tilingArray': * checking DESCRIPTION meta-information ... OK * cleaning src * installing the package to re-build vignettes installing R.css in D:/biocbld/work-area/1.8d/tmpdir/Rinst595689007 ---------- Making package tilingArray ------------ adding build stamp to DESCRIPTION installing NAMESPACE file and metadata making DLL ... making findsegments.d from findsegments.c making sampleStep.d from sampleStep.c gcc -Id:/biocbld/R-2.3.0/include -Wall -O2 -c findsegments.c -o findsegments.o gcc -Id:/biocbld/R-2.3.0/include -Wall -O2 -c sampleStep.c -o sampleStep.o windres --include-dir d:/biocbld/R-2.3.0/include -i tilingArray_res.rc -o tilingArray_res.o gcc -shared -s -o tilingArray.dll tilingArray.def findsegments.o sampleStep.o tilingArray_res.o -Ld:/biocbld/R-2.3.0/bin -lR ... DLL made installing DLL installing R files save image Loading required package: Biobase Loading required package: tools Welcome to Bioconductor Vignettes contain introductory material. To view, type 'openVignette()' or start with 'help(Biobase)'. For details on reading vignettes, see the openVignette help page. Loading required package: affy Loading required package: affyio Loading required package: RColorBrewer Loading required package: grid Loading required package: strucchange Loading required package: zoo Loading required package: sandwich Loading required package: colorspace Attaching package: 'colorspace' The following object(s) are masked from package:grDevices : hcl Loading required package: vsn Loading required package: genefilter Loading required package: survival Loading required package: splines Loading required package: geneplotter Loading required package: annotate KernSmooth 2.22 installed Copyright M. P. Wand 1997 installing inst files installing man source files installing indices installing help >>> Building/Updating help pages for package 'tilingArray' Formats: text html latex example chm breakpointsPretend text html latex chm class-segmentation text html latex example chm comparisonPlot text html latex example chm costMatrix text html latex example chm findsegments text html latex example chm normalizeByReference text html latex example chm otherStrand text html latex example chm plotAlongChrom text html latex example chm posMin text html latex example chm readCel2eSet text html latex example chm sampleStep text html latex example chm segment text html latex example chm tilingArray-package text html latex chm Microsoft HTML Help Compiler 4.74.8702 Compiling d:\biocbld\work-area\1.8d\madman\Rpacks\tilingArray\chm\tilingArray.chm Compile time: 0 minutes, 0 seconds 14 Topics 44 Local links 2 Internet links 1 Graphic Created d:\biocbld\work-area\1.8d\madman\Rpacks\tilingArray\chm\tilingArray.chm, 39,503 bytes Compression decreased file by 17,505 bytes. adding MD5 sums * DONE (tilingArray) * creating vignettes ... OK * cleaning src * removing junk files * checking for LF line-endings in source files * checking for empty or unneeded directories * building 'tilingArray_1.10.0.tar.gz'