Back to Multiple platform build/check report
Package: timecourse |
Version: 1.4.0 |
Command: D:\biocbld\R-2.3.0\bin\R.exe CMD INSTALL --build timecourse_1.4.0.tar.gz |
RetCode: 0 |
Time: 12.5 seconds |
Status: OK |
PackageFile: timecourse_1.4.0.zip |
Using auto-selected zip options 'timecourse-ZIPDATA=zip' ---------- Making package timecourse ------------ adding build stamp to DESCRIPTION installing R files installing inst files installing data files installing man source files installing indices zipping data installing help >>> Building/Updating help pages for package 'timecourse' Formats: text html latex example chm abs2ratio text html latex chm fruitfly text html latex chm marrayTC-class text html latex chm matrix.cov text html latex chm mb.MANOVA text html latex example chm mb.long text html latex example chm ot.helmert text html latex chm plotProfile text html latex chm univ.func text html latex chm Microsoft HTML Help Compiler 4.74.8702 Compiling d:\biocbld\work-area\1.8d\madman\Rpacks\R.INSTALL\timecourse\chm\timecourse.chm Compile time: 0 minutes, 0 seconds 10 Topics 27 Local links 2 Internet links 1 Graphic Created d:\biocbld\work-area\1.8d\madman\Rpacks\R.INSTALL\timecourse\chm\timecourse.chm, 34,927 bytes Compression decreased file by 15,793 bytes. preparing package timecourse for lazy loading Welcome to Bioconductor Vignettes contain introductory material. To view, type 'openVignette()' or start with 'help(Biobase)'. For details on reading vignettes, see the openVignette help page. adding MD5 sums packaged installation of package 'timecourse' as timecourse_1.4.0.zip * DONE (timecourse)