Back to Multiple platform build/check report
Package: twilight |
Version: 1.8.0 |
Command: D:\biocbld\R-2.3.0\bin\R.exe CMD INSTALL --build twilight_1.8.0.tar.gz |
RetCode: 0 |
Time: 14.0 seconds |
Status: OK |
PackageFile: twilight_1.8.0.zip |
Using auto-selected zip options 'twilight-ZIPDATA=zip' ---------- Making package twilight ------------ adding build stamp to DESCRIPTION making DLL ... making confidence.line.d from confidence.line.c making correlation.d from correlation.c making kstest.d from kstest.c making sep.d from sep.c making twosample.perm.d from twosample.perm.c making twosample.single.d from twosample.single.c gcc -ID:/biocbld/R-2.3.0/include -Wall -O2 -c confidence.line.c -o confidence.line.o gcc -ID:/biocbld/R-2.3.0/include -Wall -O2 -c correlation.c -o correlation.o gcc -ID:/biocbld/R-2.3.0/include -Wall -O2 -c kstest.c -o kstest.o gcc -ID:/biocbld/R-2.3.0/include -Wall -O2 -c sep.c -o sep.o gcc -ID:/biocbld/R-2.3.0/include -Wall -O2 -c twosample.perm.c -o twosample.perm.o gcc -ID:/biocbld/R-2.3.0/include -Wall -O2 -c twosample.single.c -o twosample.single.o windres --include-dir D:/biocbld/R-2.3.0/include -i twilight_res.rc -o twilight_res.o gcc -shared -s -o twilight.dll twilight.def confidence.line.o correlation.o kstest.o sep.o twosample.perm.o twosample.single.o twilight_res.o -LD:/biocbld/R-2.3.0/bin -lR ... DLL made installing DLL installing R files installing inst files installing data files installing man source files installing indices zipping data installing help >>> Building/Updating help pages for package 'twilight' Formats: text html latex example chm exfdr text html latex chm expval text html latex chm plot.twilight text html latex example chm print.twilight text html latex example chm twilight text html latex example chm twilight.combi text html latex example chm twilight.filtering text html latex example chm twilight.getlambda text html latex chm twilight.getmatrix text html latex chm twilight.permute.pair text html latex chm twilight.permute.unpair text html latex chm twilight.pval text html latex example chm twilight.teststat text html latex example chm Microsoft HTML Help Compiler 4.74.8702 Compiling d:\biocbld\work-area\1.8d\madman\Rpacks\R.INSTALL\twilight\chm\twilight.chm Compile time: 0 minutes, 0 seconds 14 Topics 46 Local links 11 Internet links 1 Graphic Created d:\biocbld\work-area\1.8d\madman\Rpacks\R.INSTALL\twilight\chm\twilight.chm, 34,307 bytes Compression decreased file by 17,122 bytes. preparing package twilight for lazy loading adding MD5 sums packaged installation of package 'twilight' as twilight_1.8.0.zip * DONE (twilight)