Back to Multiple platform build/check report
Package: vsn |
Version: 1.10.0 |
Command: D:\biocbld\R-2.3.0\bin\R.exe CMD INSTALL --build vsn_1.10.0.tar.gz |
RetCode: 0 |
Time: 16.0 seconds |
Status: OK |
PackageFile: vsn_1.10.0.zip |
Using auto-selected zip options 'vsn-ZIPDATA=zip' ---------- Making package vsn ------------ adding build stamp to DESCRIPTION installing NAMESPACE file and metadata making DLL ... making vsn.d from vsn.c gcc -ID:/biocbld/R-2.3.0/include -Wall -O2 -c vsn.c -o vsn.o windres --include-dir D:/biocbld/R-2.3.0/include -i vsn_res.rc -o vsn_res.o gcc -shared -s -o vsn.dll vsn.def vsn.o vsn_res.o -LD:/biocbld/R-2.3.0/bin -lR ... DLL made installing DLL installing R files installing inst files installing data files installing man source files installing indices zipping data installing help >>> Building/Updating help pages for package 'vsn' Formats: text html latex example chm getIntensityMatrix text html latex example chm kidney text html latex example chm lymphoma text html latex example chm meanSdPlot text html latex example chm nchoosek text html latex example chm normalize.AffyBatch.vsn text html latex example chm sagmbSimulateData text html latex example chm vsn text html latex example chm vsnPlotPar text html latex example chm vsnh text html latex example chm Microsoft HTML Help Compiler 4.74.8702 Compiling d:\biocbld\work-area\1.8d\madman\Rpacks\R.INSTALL\vsn\chm\vsn.chm Compile time: 0 minutes, 0 seconds 11 Topics 48 Local links 7 Internet links 1 Graphic Created d:\biocbld\work-area\1.8d\madman\Rpacks\R.INSTALL\vsn\chm\vsn.chm, 37,209 bytes Compression decreased file by 12,153 bytes. adding MD5 sums packaged installation of package 'vsn' as vsn_1.10.0.zip * DONE (vsn)