Back to Multiple platform build/check report
Package: webbioc |
Version: 1.4.0 |
Command: D:\biocbld\R-2.3.0\bin\R.exe CMD build webbioc |
RetCode: 0 |
Time: 21.5 seconds |
Status: OK |
PackageFile: webbioc_1.4.0.tar.gz |
* checking for file 'webbioc/DESCRIPTION' ... OK * preparing 'webbioc': * checking DESCRIPTION meta-information ... OK * installing the package to re-build vignettes installing R.css in D:/biocbld/work-area/1.8d/tmpdir/Rinst427242349 ---------- Making package webbioc ------------ adding build stamp to DESCRIPTION installing R files save image Loading required package: affy Loading required package: Biobase Loading required package: tools Welcome to Bioconductor Vignettes contain introductory material. To view, type 'openVignette()' or start with 'help(Biobase)'. For details on reading vignettes, see the openVignette help page. Loading required package: affyio Loading required package: multtest Loading required package: survival Loading required package: splines Loading required package: annaffy Loading required package: GO Loading required package: KEGG Loading required package: vsn Loading required package: gcrma Loading required package: matchprobes Loading required package: reposTools [1] TRUE installing inst files installing man source files installing indices installing help >>> Building/Updating help pages for package 'webbioc' Formats: text html latex example chm installReps text html latex chm mt.wrapper text html latex chm qplot text html latex chm qvalue text html latex chm qwrite text html latex chm Microsoft HTML Help Compiler 4.74.8702 Compiling d:\biocbld\work-area\1.8d\madman\Rpacks\webbioc\chm\webbioc.chm Compile time: 0 minutes, 0 seconds 6 Topics 10 Local links 3 Internet links 1 Graphic Created d:\biocbld\work-area\1.8d\madman\Rpacks\webbioc\chm\webbioc.chm, 23,293 bytes Compression increased file by 2,425 bytes. adding MD5 sums * DONE (webbioc) * creating vignettes ... OK * removing junk files * checking for LF line-endings in source files * checking for empty or unneeded directories * building 'webbioc_1.4.0.tar.gz'