Back to Multiple platform build/check report
Package: widgetInvoke |
Version: 1.4.0 |
Command: D:\biocbld\R-2.3.0\bin\R.exe CMD build widgetInvoke |
RetCode: 1 |
Time: 3.5 seconds |
Status: ERROR |
PackageFile: None |
* checking for file 'widgetInvoke/DESCRIPTION' ... OK * preparing 'widgetInvoke': * checking DESCRIPTION meta-information ... OK * installing the package to re-build vignettes installing R.css in D:/biocbld/work-area/1.8d/tmpdir/Rinst572056933 ---------- Making package widgetInvoke ------------ adding build stamp to DESCRIPTION installing NAMESPACE file and metadata installing R files save image Loading required package: XML Loading required package: RGtk Error: package 'RGtk' could not be loaded In addition: Warning message: there is no package called 'RGtk' in: library(pkg, character.only = TRUE, logical = TRUE, lib.loc = lib.loc) Execution halted execution of package source for 'widgetInvoke' failed make[2]: *** [D:/biocbld/work-area/1.8d/tmpdir/Rinst572056933/widgetInvoke/R/widgetInvoke] Error 1 make[1]: *** [all] Error 2 make: *** [pkg-widgetInvoke] Error 2 *** Installation of widgetInvoke failed *** Removing 'D:/biocbld/work-area/1.8d/tmpdir/Rinst572056933/widgetInvoke' ERROR Installation failed. Removing 'D:/biocbld/work-area/1.8d/tmpdir/Rinst572056933'