Back to Multiple platform build/check report
Package: widgetTools |
Version: 1.8.0 |
Command: D:\biocbld\R-2.3.0\bin\R.exe CMD INSTALL --build widgetTools_1.8.0.tar.gz |
RetCode: 0 |
Time: 13.5 seconds |
Status: OK |
PackageFile: widgetTools_1.8.0.zip |
Using auto-selected zip options '' ---------- Making package widgetTools ------------ adding build stamp to DESCRIPTION installing NAMESPACE file and metadata installing R files installing inst files installing man source files installing indices installing help >>> Building/Updating help pages for package 'widgetTools' Formats: text html latex example chm basicPW-class text html latex example chm button text html latex example chm dropdownList text html latex example chm makeViewer text html latex example chm oneVScrList text html latex example chm safeFileOpen text html latex example chm tooltip text html latex example chm widget-class text html latex example chm widgetView-class text html latex example chm writeText text html latex example chm Microsoft HTML Help Compiler 4.74.8702 Compiling d:\biocbld\work-area\1.8d\madman\Rpacks\R.INSTALL\widgetTools\chm\widgetTools.chm Compile time: 0 minutes, 0 seconds 11 Topics 149 Local links 0 Internet links 1 Graphic Created d:\biocbld\work-area\1.8d\madman\Rpacks\R.INSTALL\widgetTools\chm\widgetTools.chm, 40,259 bytes Compression decreased file by 55,076 bytes. preparing package widgetTools for lazy loading Warning message: undefined slot classes in definition of "widgetView": winid(class "tkwin") in: .completeClassSlots(ClassDef, where) adding MD5 sums packaged installation of package 'widgetTools' as widgetTools_1.8.0.zip * DONE (widgetTools)