Back to Multiple platform build/check report
Package: affyQCReport |
Version: 1.10.0 |
Command: /home/biocbuild/arch/i686/R-2.3.0/bin/R CMD build affyQCReport |
RetCode: 0 |
Time: 66.0 seconds |
Status: OK |
PackageFile: affyQCReport_1.10.0.tar.gz |
* checking for file 'affyQCReport/DESCRIPTION' ... OK * preparing 'affyQCReport': * checking DESCRIPTION meta-information ... OK * installing the package to re-build vignettes * Installing *source* package 'affyQCReport' ... ** R ** inst ** help >>> Building/Updating help pages for package 'affyQCReport' Formats: text html latex example QCReport text html latex example borderQC1 text html latex example borderQC2 text html latex example correlationPlot text html latex example signalDist text html latex example titlePage text html latex example ** building package indices ... * DONE (affyQCReport) * creating vignettes ... OK * removing junk files * checking for LF line-endings in source files * checking for empty or unneeded directories * building 'affyQCReport_1.10.0.tar.gz'