Back to Multiple platform build/check report
Package: affylmGUI |
Version: 1.6.0 |
Command: /home/biocbuild/arch/i686/R-2.3.0/bin/R CMD build affylmGUI |
RetCode: 0 |
Time: 15.8 seconds |
Status: OK |
PackageFile: affylmGUI_1.6.0.tar.gz |
* checking for file 'affylmGUI/DESCRIPTION' ... OK * preparing 'affylmGUI': * checking DESCRIPTION meta-information ... OK * checking whether 'INDEX' is up-to-date ... NO * use '--force' to overwrite the existing 'INDEX' * installing the package to re-build vignettes * Installing *source* package 'affylmGUI' ... ** R ** inst ** preparing package for lazy loading Loading required package: limma Loading required package: tcltk Loading Tcl/Tk interface ... done Loading required package: affy Loading required package: Biobase Loading required package: tools Welcome to Bioconductor Vignettes contain introductory material. To view, type 'openVignette()' or start with 'help(Biobase)'. For details on reading vignettes, see the openVignette help page. Loading required package: affyio ** help >>> Building/Updating help pages for package 'affylmGUI' Formats: text html latex example ALGchangeLog text html latex affylmGUI text html latex ** building package indices ... * DONE (affylmGUI) * creating vignettes ... OK * removing junk files * checking for LF line-endings in source files * checking for empty or unneeded directories * building 'affylmGUI_1.6.0.tar.gz'