Back to Multiple platform build/check report
Package: limmaGUI |
Version: 1.8.0 |
Command: /home/biocbuild/arch/i686/R-2.3.0/bin/R CMD build limmaGUI |
RetCode: 0 |
Time: 13.7 seconds |
Status: OK |
PackageFile: limmaGUI_1.8.0.tar.gz |
* checking for file 'limmaGUI/DESCRIPTION' ... OK * preparing 'limmaGUI': * checking DESCRIPTION meta-information ... OK * installing the package to re-build vignettes * Installing *source* package 'limmaGUI' ... ** R ** inst ** preparing package for lazy loading Loading required package: limma Loading required package: tcltk Loading Tcl/Tk interface ... done ** help >>> Building/Updating help pages for package 'limmaGUI' Formats: text html latex example LGchangelog text html latex limmaGUI text html latex ** building package indices ... * DONE (limmaGUI) * creating vignettes ... OK * removing junk files * checking for LF line-endings in source files * checking for empty or unneeded directories * building 'limmaGUI_1.8.0.tar.gz'