Back to Multiple platform build/check report
Package: safe |
Version: 1.4.0 |
Command: /home/biocbuild/arch/i686/R-2.3.0/bin/R CMD build safe |
RetCode: 0 |
Time: 194.6 seconds |
Status: OK |
PackageFile: safe_1.4.0.tar.gz |
* checking for file 'safe/DESCRIPTION' ... OK * preparing 'safe': * checking DESCRIPTION meta-information ... OK * installing the package to re-build vignettes * Installing *source* package 'safe' ... ** R ** inst ** help >>> Building/Updating help pages for package 'safe' Formats: text html latex example SAFE-class text html latex getCmatrix text html latex example getPImatrix text html latex example safe-internal text html latex safe text html latex example safeplot text html latex example ** building package indices ... * DONE (safe) * creating vignettes ... OK * removing junk files * checking for LF line-endings in source files * checking for empty or unneeded directories * building 'safe_1.4.0.tar.gz'