Back to the "Multiple platform build/check report" A  B  C  D  E  F [G] H  I  J  K  L  M  N  O  P  Q  R  S  T  U  V  W  X  Y  Z 

Package 247/554HostnameOS / ArchBUILDCHECKBUILD BIN
graph 1.34.0
Seth Falcon
Snapshot Date: 2012-03-31 17:01:49 -0700 (Sat, 31 Mar 2012)
URL: https://hedgehog.fhcrc.org/bioconductor/branches/RELEASE_2_10/madman/Rpacks/graph
Last Changed Rev: 64678 / Revision: 64719
Last Changed Date: 2012-03-30 15:05:02 -0700 (Fri, 30 Mar 2012)
lamb2 Linux (openSUSE 11.4) / x86_64  OK  OK 
puck5 Linux (Ubuntu 12.04) / x86_64  OK [ OK ]
moscato2 Windows Server 2008 R2 Enterprise SP1 (64-bit) / x64  OK  OK  OK 
petty Mac OS X Leopard (10.5.8) / i386  OK  OK  OK 

Summary

Package: graph
Version: 1.34.0
Command: /home/hpages/test-puck5/bbs-2.10-bioc/R/bin/R CMD check --no-vignettes --timings graph_1.34.0.tar.gz
StartedAt: 2012-04-01 01:29:08 -0700 (Sun, 01 Apr 2012)
EndedAt: 2012-04-01 01:30:10 -0700 (Sun, 01 Apr 2012)
EllapsedTime: 62.4 seconds
RetCode: 0
Status:  OK 
CheckDir: graph.Rcheck
Warnings: 0

Command output

* using log directory '/loc/home/hpages/test-puck5/bbs-2.10-bioc/meat/graph.Rcheck'
* using R version 2.15.0 RC (2012-03-22 r58802)
* using platform: x86_64-unknown-linux-gnu (64-bit)
* using session charset: ISO8859-1
* using option '--no-vignettes'
* checking for file 'graph/DESCRIPTION' ... OK
* this is package 'graph' version '1.34.0'
* checking package namespace information ... OK
* checking package dependencies ... OK
* checking if this is a source package ... OK
* checking if there is a namespace ... OK
* checking whether package 'graph' can be installed ... OK
* checking installed package size ... OK
* checking package directory ... OK
* checking for portable file names ... OK
* checking for sufficient/correct file permissions ... OK
* checking DESCRIPTION meta-information ... OK
* checking top-level files ... OK
* checking index information ... OK
* checking package subdirectories ... OK
* checking R files for non-ASCII characters ... OK
* checking R files for syntax errors ... OK
* checking whether the package can be loaded ... OK
* checking whether the package can be loaded with stated dependencies ... OK
* checking whether the package can be unloaded cleanly ... OK
* checking whether the namespace can be loaded with stated dependencies ... OK
* checking whether the namespace can be unloaded cleanly ... OK
* checking for unstated dependencies in R code ... OK
* checking S3 generic/method consistency ... OK
* checking replacement functions ... OK
* checking foreign function calls ... OK
* checking R code for possible problems ... NOTE
[.dist: warning in matrix(rval, nc = lenj, nr = leni): partial argument
  match of 'nr' to 'nrow'
[.dist: warning in matrix(rval, nc = lenj, nr = leni): partial argument
  match of 'nc' to 'ncol'
* checking Rd files ... OK
* checking Rd metadata ... OK
* checking Rd cross-references ... OK
* checking for missing documentation entries ... OK
* checking for code/documentation mismatches ... OK
* checking Rd \usage sections ... OK
* checking Rd contents ... OK
* checking for unstated dependencies in examples ... OK
* checking contents of 'data' directory ... OK
* checking data for non-ASCII characters ... OK
* checking data for ASCII and uncompressed saves ... OK
* checking line endings in C/C++/Fortran sources/headers ... OK
* checking line endings in Makefiles ... OK
* checking for portable compilation flags in Makevars ... OK
* checking for portable use of $(BLAS_LIBS) and $(LAPACK_LIBS) ... OK
* checking compiled code ... OK
* checking installed files from 'inst/doc' ... OK
* checking examples ... OK
* checking for unstated dependencies in tests ... OK
* checking tests ...
  Running 'graph_unit_tests.R'
 OK
* checking for unstated dependencies in vignettes ... OK
* checking package vignettes in 'inst/doc' ... OK
* checking running R code from vignettes ... SKIPPED
* checking re-building of vignettes ... SKIPPED
* checking PDF version of manual ... OK

NOTE: There was 1 note.
See
  '/loc/home/hpages/test-puck5/bbs-2.10-bioc/meat/graph.Rcheck/00check.log'
for details.

graph.Rcheck/00install.out:

* installing *source* package 'graph' ...
** libs
gcc -std=gnu99 -I/home/hpages/test-puck5/bbs-2.10-bioc/R/include -DNDEBUG  -I/usr/local/include    -fpic  -g -O2  -c graph.c -o graph.o
gcc -std=gnu99 -shared -L/usr/local/lib -o graph.so graph.o -L/home/hpages/test-puck5/bbs-2.10-bioc/R/lib -lR
mv graph.so BioC_graph.so
installing to /loc/home/hpages/test-puck5/bbs-2.10-bioc/meat/graph.Rcheck/graph/libs
** R
** data
** inst
** preparing package for lazy loading
** help
*** installing help indices
** building package indices
** installing vignettes
   'GraphClass.Rnw' 
   'MultiGraphClass.Rnw' 
   'clusterGraph.Rnw' 
   'graph.Rnw' 
   'graphAttributes.Rnw' 
** testing if installed package can be loaded

* DONE (graph)

graph.Rcheck/graph-Ex.timings:

nameusersystemelapsed
DFS0.0320.0000.035
IMCA0.3120.0040.337
MAPKsig0.1320.0040.171
MultiGraph-class0.0880.0000.089
acc-methods0.0160.0000.015
addEdge0.0560.0000.057
addNode0.0080.0000.010
adj-methods0.0040.0000.005
apoptosisGraph0.0240.0040.046
attrData-class0.0000.0000.002
aveNumEdges0.0040.0080.014
biocRepos0.0000.0000.007
boundary0.0080.0000.007
buildRepDepGraph000
calcProb000
calcSumProb0.0080.0000.007
clearNode0.0120.0000.009
clusterGraph-class0.0000.0040.003
clusteringCoefficient-methods0.0080.0000.009
combineNodes0.0400.0000.039
distGraph-class0.0000.0000.005
duplicatedEdges000
edgeMatrix0.0120.0000.013
edgeSets0.0360.0000.046
edgeWeights0.0080.0000.008
fromGXL-methods0.3760.0040.402
graph-class0.0080.0000.008
graph2SparseM0.1360.0040.155
graphAM-class0.0160.0000.016
graphBAM-class0.1040.0000.106
graphExamples0.0040.0000.009
graphNEL-class0.0000.0040.005
inEdges0.0040.0000.003
leaves0.0120.0000.021
listEdges0.0080.0040.011
matrix2Graph0.0280.0000.025
mostEdges0.0200.0040.024
numNoEdges0.0040.0000.004
pancrCaIni0.0720.0080.094
randomEGraph0.0080.0000.008
randomGraph0.0080.0000.007
randomNodeGraph0.0040.0000.005
removeEdge0.0080.0000.009
removeNode0.0040.0000.003
renderInfo-class0.0120.0000.011
reverseEdgeDirections0.0080.0000.005
simpleEdge-class0.0000.0000.001
standardLabeling0.0600.0040.065
subGraph0.0040.0000.009
toDotR-methods0.0240.0000.027
ugraph0.0080.0000.008
validGraph0.0040.0000.002