predictionet 1.6.1 Benjamin Haibe-Kains , Catharina Olsen
Snapshot Date: 2013-10-08 17:00:48 -0700 (Tue, 08 Oct 2013) | URL: https://hedgehog.fhcrc.org/bioconductor/branches/RELEASE_2_12/madman/Rpacks/predictionet | Last Changed Rev: 81065 / Revision: 81334 | Last Changed Date: 2013-10-02 08:44:00 -0700 (Wed, 02 Oct 2013) |
| george2 | Linux (Ubuntu 12.04.1 LTS) / x86_64 | OK | OK | |
moscato2 | Windows Server 2008 R2 Enterprise SP1 (64-bit) / x64 | N O T S U P P O R T E D |
petty | Mac OS X Snow Leopard (10.6.8) / x86_64 | OK | OK | OK |