Back to the "Multiple platform build/check report" |
This page was generated on 2014-03-03 17:23:45 -0800 (Mon, 03 Mar 2014).
Package 5/189 | Hostname | OS / Arch | BUILD | CHECK | BUILD BIN | ||||
Affymoe430Expr 0.99.0 Zhicheng Ji
| zin2 | Linux (Ubuntu 12.04.4 LTS) / x86_64 | OK | WARNINGS | |||||
moscato2 | Windows Server 2008 R2 Enterprise SP1 (64-bit) / x64 | OK | WARNINGS | TIMEOUT | |||||
petty | Mac OS X Snow Leopard (10.6.8) / x86_64 | OK | WARNINGS | OK |