This page was generated on 2020-04-15 12:03:09 -0400 (Wed, 15 Apr 2020).
signatureSearch 1.0.4 Yuzhu Duan
Snapshot Date: 2020-04-14 16:46:13 -0400 (Tue, 14 Apr 2020) |
URL: https://git.bioconductor.org/packages/signatureSearch |
Branch: RELEASE_3_10 |
Last Commit: 712e3fb |
Last Changed Date: 2020-04-06 14:01:21 -0400 (Mon, 06 Apr 2020) |
| malbec1 | Linux (Ubuntu 18.04.4 LTS) / x86_64 | OK | OK | WARNINGS | | |
tokay1 | Windows Server 2012 R2 Standard / x64 | OK | OK | WARNINGS | OK | |
merida1 | OS X 10.11.6 El Capitan / x86_64 | OK | OK | WARNINGS | OK | |