This page was generated on 2020-04-15 12:03:28 -0400 (Wed, 15 Apr 2020).
survcomp 1.36.1 Benjamin Haibe-Kains , Markus Schroeder , Catharina Olsen
Snapshot Date: 2020-04-14 16:46:13 -0400 (Tue, 14 Apr 2020) |
URL: https://git.bioconductor.org/packages/survcomp |
Branch: RELEASE_3_10 |
Last Commit: f69c9f2 |
Last Changed Date: 2020-01-31 14:56:01 -0400 (Fri, 31 Jan 2020) |
| malbec1 | Linux (Ubuntu 18.04.4 LTS) / x86_64 | OK | OK | WARNINGS | | ![UNNEEDED, same version exists in internal repository UNNEEDED, same version exists in internal repository](../120px-Blue_Light_Icon.svg.png) |
tokay1 | Windows Server 2012 R2 Standard / x64 | OK | OK | WARNINGS | OK | ![UNNEEDED, same version exists in internal repository UNNEEDED, same version exists in internal repository](../120px-Blue_Light_Icon.svg.png) |
merida1 | OS X 10.11.6 El Capitan / x86_64 | OK | OK | WARNINGS | OK | ![UNNEEDED, same version exists in internal repository UNNEEDED, same version exists in internal repository](../120px-Blue_Light_Icon.svg.png) |