This page was generated on 2020-04-15 12:03:47 -0400 (Wed, 15 Apr 2020).
universalmotif 1.4.10 Benjamin Jean-Marie Tremblay
Snapshot Date: 2020-04-14 16:46:13 -0400 (Tue, 14 Apr 2020) |
URL: https://git.bioconductor.org/packages/universalmotif |
Branch: RELEASE_3_10 |
Last Commit: 84152c2 |
Last Changed Date: 2020-04-14 10:46:22 -0400 (Tue, 14 Apr 2020) |
| malbec1 | Linux (Ubuntu 18.04.4 LTS) / x86_64 | OK | OK | OK | | |
tokay1 | Windows Server 2012 R2 Standard / x64 | OK | OK | ERROR | OK | |
merida1 | OS X 10.11.6 El Capitan / x86_64 | OK | OK | OK | OK | |