This page was generated on 2020-04-15 12:00:39 -0400 (Wed, 15 Apr 2020).
CountClust 1.14.0 Kushal Dey
Snapshot Date: 2020-04-14 16:46:13 -0400 (Tue, 14 Apr 2020) |
URL: https://git.bioconductor.org/packages/CountClust |
Branch: RELEASE_3_10 |
Last Commit: 84275ce |
Last Changed Date: 2019-10-29 13:09:36 -0400 (Tue, 29 Oct 2019) |
| malbec1 | Linux (Ubuntu 18.04.4 LTS) / x86_64 | ERROR | ERROR | skipped | | |
tokay1 | Windows Server 2012 R2 Standard / x64 | ERROR | ERROR | skipped | skipped | |
merida1 | OS X 10.11.6 El Capitan / x86_64 | ERROR | ERROR | skipped | skipped | |