This page was generated on 2020-04-15 12:00:49 -0400 (Wed, 15 Apr 2020).
ENCODExplorer 2.12.1 Charles Joly Beauparlant
Snapshot Date: 2020-04-14 16:46:13 -0400 (Tue, 14 Apr 2020) |
URL: https://git.bioconductor.org/packages/ENCODExplorer |
Branch: RELEASE_3_10 |
Last Commit: 303e786 |
Last Changed Date: 2019-12-12 10:14:57 -0400 (Thu, 12 Dec 2019) |
| malbec1 | Linux (Ubuntu 18.04.4 LTS) / x86_64 | OK | OK | OK | | |
tokay1 | Windows Server 2012 R2 Standard / x64 | OK | OK | OK | OK | |
merida1 | OS X 10.11.6 El Capitan / x86_64 | OK | OK | OK | OK | |