This page was generated on 2020-04-15 12:01:09 -0400 (Wed, 15 Apr 2020).
GRmetrics 1.12.2 Nicholas Clark , Mario Medvedovic
Snapshot Date: 2020-04-14 16:46:13 -0400 (Tue, 14 Apr 2020) |
URL: https://git.bioconductor.org/packages/GRmetrics |
Branch: RELEASE_3_10 |
Last Commit: 799d154 |
Last Changed Date: 2020-04-12 21:49:19 -0400 (Sun, 12 Apr 2020) |
| malbec1 | Linux (Ubuntu 18.04.4 LTS) / x86_64 | OK | OK | OK | | |
tokay1 | Windows Server 2012 R2 Standard / x64 | OK | OK | OK | OK | |
merida1 | OS X 10.11.6 El Capitan / x86_64 | OK | OK | OK | OK | |