This page was generated on 2020-04-15 12:00:48 -0400 (Wed, 15 Apr 2020).
easyRNASeq 2.22.5 Nicolas Delhomme
Snapshot Date: 2020-04-14 16:46:13 -0400 (Tue, 14 Apr 2020) |
URL: https://git.bioconductor.org/packages/easyRNASeq |
Branch: RELEASE_3_10 |
Last Commit: e060332 |
Last Changed Date: 2020-01-24 17:02:02 -0400 (Fri, 24 Jan 2020) |
| malbec1 | Linux (Ubuntu 18.04.4 LTS) / x86_64 | OK | ERROR | skipped | | |
tokay1 | Windows Server 2012 R2 Standard / x64 | OK | ERROR | skipped | skipped | |
merida1 | OS X 10.11.6 El Capitan / x86_64 | OK | ERROR | skipped | skipped | |