This page was generated on 2020-04-15 12:00:48 -0400 (Wed, 15 Apr 2020).
edgeR 3.28.1 Yunshun Chen , Aaron Lun , Mark Robinson , Gordon Smyth
Snapshot Date: 2020-04-14 16:46:13 -0400 (Tue, 14 Apr 2020) |
URL: https://git.bioconductor.org/packages/edgeR |
Branch: RELEASE_3_10 |
Last Commit: 3e0d7a7 |
Last Changed Date: 2020-02-26 03:21:46 -0400 (Wed, 26 Feb 2020) |
| malbec1 | Linux (Ubuntu 18.04.4 LTS) / x86_64 | OK | OK | OK | | |
tokay1 | Windows Server 2012 R2 Standard / x64 | OK | OK | OK | OK | |
merida1 | OS X 10.11.6 El Capitan / x86_64 | OK | OK | OK | OK | |