This page was generated on 2020-04-15 12:02:57 -0400 (Wed, 15 Apr 2020).
scater 1.14.6 Davis McCarthy
Snapshot Date: 2020-04-14 16:46:13 -0400 (Tue, 14 Apr 2020) |
URL: https://git.bioconductor.org/packages/scater |
Branch: RELEASE_3_10 |
Last Commit: ba37f4d |
Last Changed Date: 2019-12-13 22:59:26 -0400 (Fri, 13 Dec 2019) |
| malbec1 | Linux (Ubuntu 18.04.4 LTS) / x86_64 | OK | OK | WARNINGS | | ![UNNEEDED, same version exists in internal repository UNNEEDED, same version exists in internal repository](../120px-Blue_Light_Icon.svg.png) |
tokay1 | Windows Server 2012 R2 Standard / x64 | OK | TIMEOUT | skipped | skipped | |
merida1 | OS X 10.11.6 El Capitan / x86_64 | OK | OK | WARNINGS | OK | ![UNNEEDED, same version exists in internal repository UNNEEDED, same version exists in internal repository](../120px-Blue_Light_Icon.svg.png) |