Back to Long Tests report for BioC 3.10 |
This page was generated on 2020-04-11 19:30:02 -0400 (Sat, 11 Apr 2020).
Package 1/4 | Hostname | OS / Arch | CHECK | |||||
beachmat 2.2.1 Aaron Lun
| malbec1 | Linux (Ubuntu 18.04.4 LTS) / x86_64 | OK |
Package: beachmat |
Version: 2.2.1 |
Command: /home/biocbuild/bbs-3.10-bioc/R/bin/R CMD build --keep-empty-dirs --no-resave-data --no-build-vignettes --no-manual beachmat |
StartedAt: 2020-04-11 11:00:05 -0400 (Sat, 11 Apr 2020) |
EndedAt: 2020-04-11 11:00:06 -0400 (Sat, 11 Apr 2020) |
EllapsedTime: 0.5 seconds |
RetCode: 0 |
Status: OK |
PackageFile: beachmat_2.2.1.tar.gz |
PackageFileSize: 61.38 KiB |
############################################################################## ############################################################################## ### ### Running command: ### ### /home/biocbuild/bbs-3.10-bioc/R/bin/R CMD build --keep-empty-dirs --no-resave-data --no-build-vignettes --no-manual beachmat ### ############################################################################## ############################################################################## * checking for file ‘beachmat/DESCRIPTION’ ... OK * preparing ‘beachmat’: * checking DESCRIPTION meta-information ... OK * checking for LF line-endings in source and make files and shell scripts * checking for empty or unneeded directories * building ‘beachmat_2.2.1.tar.gz’