Back to Long Tests report for BioC 3.10

Long Tests report for BioC 3.10

Results for HDF5Array

This page was generated on 2020-04-11 19:30:02 -0400 (Sat, 11 Apr 2020).

Package 4/4HostnameOS / ArchCHECK
HDF5Array 1.14.3
Hervé Pagès
Snapshot Date: 2020-04-11 10:00:02 -0400 (Sat, 11 Apr 2020)
URL: https://git.bioconductor.org/packages/HDF5Array
Branch: RELEASE_3_10
Last Commit: 140f894
Last Changed Date: 2020-02-28 05:59:29 -0400 (Fri, 28 Feb 2020)
malbec1 Linux (Ubuntu 18.04.4 LTS) / x86_64  ERROR