Back to Long Tests report for BioC 3.10

BUILD report for HDF5Array on malbec1

This page was generated on 2020-04-11 19:30:02 -0400 (Sat, 11 Apr 2020).

Package 4/4HostnameOS / ArchCHECK
HDF5Array 1.14.3
Hervé Pagès
Snapshot Date: 2020-04-11 10:00:02 -0400 (Sat, 11 Apr 2020)
URL: https://git.bioconductor.org/packages/HDF5Array
Branch: RELEASE_3_10
Last Commit: 140f894
Last Changed Date: 2020-02-28 05:59:29 -0400 (Fri, 28 Feb 2020)
malbec1 Linux (Ubuntu 18.04.4 LTS) / x86_64  ERROR 

Summary

Package: HDF5Array
Version: 1.14.3
Command: /home/biocbuild/bbs-3.10-bioc/R/bin/R CMD build --keep-empty-dirs --no-resave-data --no-build-vignettes --no-manual HDF5Array
StartedAt: 2020-04-11 11:00:05 -0400 (Sat, 11 Apr 2020)
EndedAt: 2020-04-11 11:00:07 -0400 (Sat, 11 Apr 2020)
EllapsedTime: 1.6 seconds
RetCode: 0
Status:  OK 
PackageFile: HDF5Array_1.14.3.tar.gz
PackageFileSize: 7.678 MiB

Command output

##############################################################################
##############################################################################
###
### Running command:
###
###   /home/biocbuild/bbs-3.10-bioc/R/bin/R CMD build --keep-empty-dirs --no-resave-data --no-build-vignettes --no-manual HDF5Array
###
##############################################################################
##############################################################################


* checking for file ‘HDF5Array/DESCRIPTION’ ... OK
* preparing ‘HDF5Array’:
* checking DESCRIPTION meta-information ... OK
* cleaning src
* checking for LF line-endings in source and make files and shell scripts
* checking for empty or unneeded directories
* building ‘HDF5Array_1.14.3.tar.gz’