Back to
Workflows build report for BioC 3.10
Workflows build report for BioC 3.10
Results for BiocMetaWorkflow
This page was generated on 2020-04-15 18:30:18 -0400 (Wed, 15 Apr 2020).
Package
4
/27
Hostname
OS / Arch
INSTALL
BUILD
BiocMetaWorkflow
1.8.1
Mike Smith
Snapshot Date:
2020-04-15 10:00:01 -0400 (Wed, 15 Apr 2020)
URL:
https://git.bioconductor.org/packages/BiocMetaWorkflow
Branch:
RELEASE_3_10
Last Commit:
c4ab094
Last Changed Date:
2020-03-27 06:59:11 -0400 (Fri, 27 Mar 2020)
malbec1
Linux (Ubuntu 18.04.4 LTS) / x86_64
OK
OK