This page was generated on 2020-10-17 11:54:08 -0400 (Sat, 17 Oct 2020).
BiocVersion 3.11.1 Bioconductor Package Maintainer
Snapshot Date: 2020-10-16 14:40:19 -0400 (Fri, 16 Oct 2020) |
URL: https://git.bioconductor.org/packages/BiocVersion |
Branch: RELEASE_3_11 |
Last Commit: 75a6f4a |
Last Changed Date: 2019-11-13 14:06:29 -0400 (Wed, 13 Nov 2019) |
| malbec2 | Linux (Ubuntu 18.04.4 LTS) / x86_64 | OK | OK | OK | | |
tokay2 | Windows Server 2012 R2 Standard / x64 | OK | OK | OK | OK | |
machv2 | macOS 10.14.6 Mojave / x86_64 | OK | OK | OK | OK | |