This page was generated on 2020-10-17 11:54:12 -0400 (Sat, 17 Oct 2020).
HilbertVisGUI 1.46.0 Simon Anders
Snapshot Date: 2020-10-16 14:40:19 -0400 (Fri, 16 Oct 2020) |
URL: https://git.bioconductor.org/packages/HilbertVisGUI |
Branch: RELEASE_3_11 |
Last Commit: 30a9376 |
Last Changed Date: 2020-04-27 14:18:32 -0400 (Mon, 27 Apr 2020) |
| malbec2 | Linux (Ubuntu 18.04.4 LTS) / x86_64 | OK | OK | WARNINGS | | ![UNNEEDED, same version exists in internal repository UNNEEDED, same version exists in internal repository](../120px-Blue_Light_Icon.svg.png) |
tokay2 | Windows Server 2012 R2 Standard / x64 | ERROR | ERROR | skipped | skipped | |
machv2 | macOS 10.14.6 Mojave / x86_64 | ...NOT SUPPORTED... |