This page was generated on 2020-10-17 11:54:14 -0400 (Sat, 17 Oct 2020).
MSGFplus 1.22.0 Thomas Lin Pedersen
Snapshot Date: 2020-10-16 14:40:19 -0400 (Fri, 16 Oct 2020) |
URL: https://git.bioconductor.org/packages/MSGFplus |
Branch: RELEASE_3_11 |
Last Commit: 4504509 |
Last Changed Date: 2020-10-07 04:05:57 -0400 (Wed, 07 Oct 2020) |
| malbec2 | Linux (Ubuntu 18.04.4 LTS) / x86_64 | OK | OK | WARNINGS | | |
tokay2 | Windows Server 2012 R2 Standard / x64 | OK | OK | WARNINGS | OK | |
machv2 | macOS 10.14.6 Mojave / x86_64 | ERROR | ERROR | skipped | skipped | |