This page was generated on 2020-10-17 11:54:19 -0400 (Sat, 17 Oct 2020).
universalmotif 1.6.4 Benjamin Jean-Marie Tremblay
Snapshot Date: 2020-10-16 14:40:19 -0400 (Fri, 16 Oct 2020) |
URL: https://git.bioconductor.org/packages/universalmotif |
Branch: RELEASE_3_11 |
Last Commit: 91b2ec6 |
Last Changed Date: 2020-09-17 04:26:01 -0400 (Thu, 17 Sep 2020) |
| malbec2 | Linux (Ubuntu 18.04.4 LTS) / x86_64 | OK | OK | OK | | |
tokay2 | Windows Server 2012 R2 Standard / x64 | OK | OK | OK | NA | |
machv2 | macOS 10.14.6 Mojave / x86_64 | OK | OK | OK | OK | |