Back to Long Tests report for BioC 3.11

BUILD report for cBioPortalData on tokay2

This page was generated on 2020-10-10 17:30:04 -0400 (Sat, 10 Oct 2020).

TO THE DEVELOPERS/MAINTAINERS OF THE cBioPortalData PACKAGE: Please make sure to use the following settings in order to reproduce any error or warning you see on this page.
Package 3/7HostnameOS / ArchCHECK
cBioPortalData 2.0.10
Marcel Ramos
Snapshot Date: 2020-10-10 09:00:02 -0400 (Sat, 10 Oct 2020)
URL: https://git.bioconductor.org/packages/cBioPortalData
Branch: RELEASE_3_11
Last Commit: a52b1ab
Last Changed Date: 2020-08-26 18:14:19 -0400 (Wed, 26 Aug 2020)
malbec2 Linux (Ubuntu 18.04.4 LTS) / x86_64  ERROR 
tokay2 Windows Server 2012 R2 Standard / x64  ERROR 
machv2 macOS 10.14.6 Mojave / x86_64  ERROR 

Summary

Package: cBioPortalData
Version: 2.0.10
Command: chmod a+r cBioPortalData -R && C:\Users\biocbuild\bbs-3.11-bioc\R\bin\R.exe CMD build --keep-empty-dirs --no-resave-data --no-build-vignettes --no-manual cBioPortalData
StartedAt: 2020-10-10 10:01:13 -0400 (Sat, 10 Oct 2020)
EndedAt: 2020-10-10 10:01:24 -0400 (Sat, 10 Oct 2020)
EllapsedTime: 11.8 seconds
RetCode: 0
Status:  OK  
PackageFile: cBioPortalData_2.0.10.tar.gz
PackageFileSize: 62.44 KiB

Command output

##############################################################################
##############################################################################
###
### Running command:
###
###   chmod a+r cBioPortalData -R && C:\Users\biocbuild\bbs-3.11-bioc\R\bin\R.exe CMD build --keep-empty-dirs --no-resave-data --no-build-vignettes --no-manual cBioPortalData
###
##############################################################################
##############################################################################


* checking for file 'cBioPortalData/DESCRIPTION' ... OK
* preparing 'cBioPortalData':
* checking DESCRIPTION meta-information ... OK
* checking for LF line-endings in source and make files and shell scripts
* checking for empty or unneeded directories
* building 'cBioPortalData_2.0.10.tar.gz'