Back to "Blame Jeroen" build/check report for BioC 3.11

"Blame Jeroen" build/check report for BioC 3.11

Results for AnnotationDbi

This page was generated on 2020-04-15 03:20:08 -0400 (Wed, 15 Apr 2020).

These builds are using Rtools40 and R-testing by Jeroen Ooms (available at https://cran.r-project.org/bin/windows/testing/rtools40.html)
Package 5/89HostnameOS / ArchINSTALLBUILDCHECKBUILD BIN
AnnotationDbi 1.49.1
Bioconductor Package Maintainer
Snapshot Date: 2020-04-14 17:00:05 -0400 (Tue, 14 Apr 2020)
URL: https://git.bioconductor.org/packages/AnnotationDbi
Branch: master
Last Commit: 8683e99
Last Changed Date: 2020-01-25 04:40:24 -0400 (Sat, 25 Jan 2020)
tokay2 Windows Server 2012 R2 Standard / x64  OK  OK  OK  OK