Back to "Blame Jeroen" build/check report for BioC 3.11

"Blame Jeroen" build/check report for BioC 3.11

Results for BiocStyle

This page was generated on 2020-04-15 03:20:08 -0400 (Wed, 15 Apr 2020).

These builds are using Rtools40 and R-testing by Jeroen Ooms (available at https://cran.r-project.org/bin/windows/testing/rtools40.html)
Package 18/89HostnameOS / ArchINSTALLBUILDCHECKBUILD BIN
BiocStyle 2.15.6
Bioconductor Package Maintainer
Snapshot Date: 2020-04-14 17:00:05 -0400 (Tue, 14 Apr 2020)
URL: https://git.bioconductor.org/packages/BiocStyle
Branch: master
Last Commit: 502c11d
Last Changed Date: 2020-01-31 18:35:01 -0400 (Fri, 31 Jan 2020)
tokay2 Windows Server 2012 R2 Standard / x64  OK  OK  OK  OK