Back to "Blame Jeroen" build/check report for BioC 3.11

"Blame Jeroen" build/check report for BioC 3.11

Results for Biostrings

This page was generated on 2020-04-15 03:20:08 -0400 (Wed, 15 Apr 2020).

These builds are using Rtools40 and R-testing by Jeroen Ooms (available at https://cran.r-project.org/bin/windows/testing/rtools40.html)
Package 21/89HostnameOS / ArchINSTALLBUILDCHECKBUILD BIN
Biostrings 2.55.7
H. Pagès
Snapshot Date: 2020-04-14 17:00:05 -0400 (Tue, 14 Apr 2020)
URL: https://git.bioconductor.org/packages/Biostrings
Branch: master
Last Commit: 1c37e86
Last Changed Date: 2020-03-24 01:18:18 -0400 (Tue, 24 Mar 2020)
tokay2 Windows Server 2012 R2 Standard / x64  OK  OK  WARNINGS  OK