Back to "Blame Jeroen" build/check report for BioC 3.11

"Blame Jeroen" build/check report for BioC 3.11

Results for KEGGgraph

This page was generated on 2020-04-15 03:20:08 -0400 (Wed, 15 Apr 2020).

These builds are using Rtools40 and R-testing by Jeroen Ooms (available at https://cran.r-project.org/bin/windows/testing/rtools40.html)
Package 52/89HostnameOS / ArchINSTALLBUILDCHECKBUILD BIN
KEGGgraph 1.47.0
Jitao David Zhang
Snapshot Date: 2020-04-14 17:00:05 -0400 (Tue, 14 Apr 2020)
URL: https://git.bioconductor.org/packages/KEGGgraph
Branch: master
Last Commit: 22f1886
Last Changed Date: 2019-10-29 13:34:52 -0400 (Tue, 29 Oct 2019)
tokay2 Windows Server 2012 R2 Standard / x64  OK  OK  OK  OK