Back to Multiple platform build/check report for BioC 3.12 |
|
This page was generated on 2021-05-06 12:25:40 -0400 (Thu, 06 May 2021).
Package 252/1974 | Hostname | OS / Arch | INSTALL | BUILD | CHECK | BUILD BIN | ||||||||
cellHTS2 2.54.0 (landing page) Joseph Barry
| malbec1 | Linux (Ubuntu 18.04.5 LTS) / x86_64 | OK | OK | OK | ![]() | ||||||||
tokay1 | Windows Server 2012 R2 Standard / x64 | OK | OK | OK | OK | ![]() | ||||||||
merida1 | macOS 10.14.6 Mojave / x86_64 | OK | OK | OK | OK | ![]() | ||||||||
QUICK STATS | OS / Arch | INSTALL | BUILD | CHECK | BUILD BIN | |||||||||||||||||
malbec1 | Linux (Ubuntu 18.04.5 LTS) / x86_64 |
|
|
| ||||||||||||||||||
tokay1 | Windows Server 2012 R2 Standard / x64 |
|
|
|
| |||||||||||||||||
merida1 | macOS 10.14.6 Mojave / x86_64 |
|
|
|
| |||||||||||||||||
Package 1/4 | Hostname | OS / Arch | INSTALL | BUILD | CHECK | BUILD BIN | ||||||||||||||||
gespeR 1.22.0 (landing page) Fabian Schmich
| malbec1 | Linux (Ubuntu 18.04.5 LTS) / x86_64 | OK | OK | WARNINGS | ![]() | ||||||||||||||||
tokay1 | Windows Server 2012 R2 Standard / x64 | OK | OK | WARNINGS | OK | ![]() | ||||||||||||||||
merida1 | macOS 10.14.6 Mojave / x86_64 | OK | OK | WARNINGS | OK | ![]() | ||||||||||||||||
Package 2/4 | Hostname | OS / Arch | INSTALL | BUILD | CHECK | BUILD BIN | ||||||||||||||||
imageHTS 1.40.0 (landing page) Joseph Barry
| malbec1 | Linux (Ubuntu 18.04.5 LTS) / x86_64 | OK | OK | OK | ![]() | ||||||||||||||||
tokay1 | Windows Server 2012 R2 Standard / x64 | OK | OK | OK | OK | ![]() | ||||||||||||||||
merida1 | macOS 10.14.6 Mojave / x86_64 | OK | OK | OK | OK | ![]() | ||||||||||||||||
Package 3/4 | Hostname | OS / Arch | INSTALL | BUILD | CHECK | BUILD BIN | ||||||||||||||||
RNAinteract 1.38.0 (landing page) Bernd Fischer
| malbec1 | Linux (Ubuntu 18.04.5 LTS) / x86_64 | OK | OK | OK | ![]() | ||||||||||||||||
tokay1 | Windows Server 2012 R2 Standard / x64 | OK | OK | OK | OK | ![]() | ||||||||||||||||
merida1 | macOS 10.14.6 Mojave / x86_64 | OK | OK | OK | OK | ![]() | ||||||||||||||||
Package 4/4 | Hostname | OS / Arch | INSTALL | BUILD | CHECK | BUILD BIN | ||||||||||||||||
staRank 1.32.0 (landing page) Juliane Siebourg
| malbec1 | Linux (Ubuntu 18.04.5 LTS) / x86_64 | OK | OK | OK | ![]() | ||||||||||||||||
tokay1 | Windows Server 2012 R2 Standard / x64 | OK | OK | OK | OK | ![]() | ||||||||||||||||
merida1 | macOS 10.14.6 Mojave / x86_64 | OK | OK | OK | OK | ![]() | ||||||||||||||||