Back to Multiple platform build/check report for BioC 3.12 |
|
This page was generated on 2021-05-06 12:25:35 -0400 (Thu, 06 May 2021).
Package 169/1974 | Hostname | OS / Arch | INSTALL | BUILD | CHECK | BUILD BIN | ||||||||
BiocSingular 1.6.0 (landing page) Aaron Lun
| malbec1 | Linux (Ubuntu 18.04.5 LTS) / x86_64 | OK | OK | OK | ![]() | ||||||||
tokay1 | Windows Server 2012 R2 Standard / x64 | OK | OK | OK | OK | ![]() | ||||||||
merida1 | macOS 10.14.6 Mojave / x86_64 | OK | OK | OK | OK | ![]() | ||||||||
QUICK STATS | OS / Arch | INSTALL | BUILD | CHECK | BUILD BIN | |||||||||||||||||
malbec1 | Linux (Ubuntu 18.04.5 LTS) / x86_64 |
|
|
| ||||||||||||||||||
tokay1 | Windows Server 2012 R2 Standard / x64 |
|
|
|
| |||||||||||||||||
merida1 | macOS 10.14.6 Mojave / x86_64 |
|
|
|
| |||||||||||||||||
Package 1/10 | Hostname | OS / Arch | INSTALL | BUILD | CHECK | BUILD BIN | ||||||||||||||||
batchelor 1.6.3 (landing page) Aaron Lun
| malbec1 | Linux (Ubuntu 18.04.5 LTS) / x86_64 | OK | OK | OK | ![]() | ||||||||||||||||
tokay1 | Windows Server 2012 R2 Standard / x64 | OK | OK | OK | OK | ![]() | ||||||||||||||||
merida1 | macOS 10.14.6 Mojave / x86_64 | OK | OK | OK | OK | ![]() | ||||||||||||||||
Package 2/10 | Hostname | OS / Arch | INSTALL | BUILD | CHECK | BUILD BIN | ||||||||||||||||
NewWave 1.0.2 (landing page) Federico Agostinis
| malbec1 | Linux (Ubuntu 18.04.5 LTS) / x86_64 | OK | ERROR | skipped | |||||||||||||||||
tokay1 | Windows Server 2012 R2 Standard / x64 | OK | OK | OK | OK | ![]() | ||||||||||||||||
merida1 | macOS 10.14.6 Mojave / x86_64 | OK | OK | OK | OK | ![]() | ||||||||||||||||
Package 3/10 | Hostname | OS / Arch | INSTALL | BUILD | CHECK | BUILD BIN | ||||||||||||||||
PCAtools 2.2.0 (landing page) Kevin Blighe
| malbec1 | Linux (Ubuntu 18.04.5 LTS) / x86_64 | OK | OK | OK | ![]() | ||||||||||||||||
tokay1 | Windows Server 2012 R2 Standard / x64 | OK | OK | OK | OK | ![]() | ||||||||||||||||
merida1 | macOS 10.14.6 Mojave / x86_64 | OK | OK | OK | OK | ![]() | ||||||||||||||||
Package 4/10 | Hostname | OS / Arch | INSTALL | BUILD | CHECK | BUILD BIN | ||||||||||||||||
scater 1.18.6 (landing page) Alan O'Callaghan
| malbec1 | Linux (Ubuntu 18.04.5 LTS) / x86_64 | OK | OK | OK | ![]() | ||||||||||||||||
tokay1 | Windows Server 2012 R2 Standard / x64 | OK | OK | WARNINGS | OK | ![]() | ||||||||||||||||
merida1 | macOS 10.14.6 Mojave / x86_64 | OK | OK | OK | OK | ![]() | ||||||||||||||||
Package 5/10 | Hostname | OS / Arch | INSTALL | BUILD | CHECK | BUILD BIN | ||||||||||||||||
scDblFinder 1.4.0 (landing page) Pierre-Luc Germain
| malbec1 | Linux (Ubuntu 18.04.5 LTS) / x86_64 | OK | OK | WARNINGS | ![]() | ||||||||||||||||
tokay1 | Windows Server 2012 R2 Standard / x64 | OK | OK | WARNINGS | OK | ![]() | ||||||||||||||||
merida1 | macOS 10.14.6 Mojave / x86_64 | OK | OK | WARNINGS | OK | ![]() | ||||||||||||||||
Package 6/10 | Hostname | OS / Arch | INSTALL | BUILD | CHECK | BUILD BIN | ||||||||||||||||
scMerge 1.6.0 (landing page) Yingxin Lin
| malbec1 | Linux (Ubuntu 18.04.5 LTS) / x86_64 | OK | OK | OK | ![]() | ||||||||||||||||
tokay1 | Windows Server 2012 R2 Standard / x64 | OK | OK | OK | OK | ![]() | ||||||||||||||||
merida1 | macOS 10.14.6 Mojave / x86_64 | OK | OK | OK | OK | ![]() | ||||||||||||||||
Package 7/10 | Hostname | OS / Arch | INSTALL | BUILD | CHECK | BUILD BIN | ||||||||||||||||
scran 1.18.7 (landing page) Aaron Lun
| malbec1 | Linux (Ubuntu 18.04.5 LTS) / x86_64 | OK | OK | WARNINGS | ![]() | ||||||||||||||||
tokay1 | Windows Server 2012 R2 Standard / x64 | OK | OK | WARNINGS | OK | ![]() | ||||||||||||||||
merida1 | macOS 10.14.6 Mojave / x86_64 | OK | OK | WARNINGS | OK | ![]() | ||||||||||||||||
Package 8/10 | Hostname | OS / Arch | INSTALL | BUILD | CHECK | BUILD BIN | ||||||||||||||||
scry 1.2.0 (landing page) Kelly Street
| malbec1 | Linux (Ubuntu 18.04.5 LTS) / x86_64 | OK | OK | OK | ![]() | ||||||||||||||||
tokay1 | Windows Server 2012 R2 Standard / x64 | OK | OK | OK | OK | ![]() | ||||||||||||||||
merida1 | macOS 10.14.6 Mojave / x86_64 | OK | OK | OK | OK | ![]() | ||||||||||||||||
Package 9/10 | Hostname | OS / Arch | INSTALL | BUILD | CHECK | BUILD BIN | ||||||||||||||||
SingleR 1.4.1 (landing page) Aaron Lun
| malbec1 | Linux (Ubuntu 18.04.5 LTS) / x86_64 | OK | OK | OK | ![]() | ||||||||||||||||
tokay1 | Windows Server 2012 R2 Standard / x64 | OK | OK | WARNINGS | OK | ![]() | ||||||||||||||||
merida1 | macOS 10.14.6 Mojave / x86_64 | OK | OK | OK | OK | ![]() | ||||||||||||||||
Package 10/10 | Hostname | OS / Arch | INSTALL | BUILD | CHECK | BUILD BIN | ||||||||||||||||
velociraptor 1.0.0 (landing page) Kevin Rue-Albrecht
| malbec1 | Linux (Ubuntu 18.04.5 LTS) / x86_64 | OK | OK | OK | ![]() | ||||||||||||||||
tokay1 | Windows Server 2012 R2 Standard / x64 | OK | OK | OK | OK | ![]() | ||||||||||||||||
merida1 | macOS 10.14.6 Mojave / x86_64 | OK | OK | OK | OK | ![]() | ||||||||||||||||