Back to Long Tests report for BioC 3.12 |
This page was generated on 2021-05-08 14:20:33 -0400 (Sat, 08 May 2021).
Package 3/10 | Hostname | OS / Arch | CHECK | |||||||
cBioPortalData 2.2.11 (landing page) Marcel Ramos
| malbec1 | Linux (Ubuntu 18.04.5 LTS) / x86_64 | WARNINGS | |||||||
tokay1 | Windows Server 2012 R2 Standard / x64 | WARNINGS | ||||||||
merida1 | macOS 10.14.6 Mojave / x86_64 | WARNINGS | ||||||||