Back to Books build report for BioC 3.12 |
This page was generated on 2021-05-05 15:35:02 -0400 (Wed, 05 May 2021).
Package 1/2 | Hostname | OS / Arch | INSTALL | BUILD | ||||||||
OSCA 1.0.6 (landing page) Aaron Lun
| nebbiolo1 | Linux (Ubuntu 20.04.2 LTS) / x86_64 | OK | ERROR | ||||||||