Back to Build/check report for BioC 3.12 experimental data |
|
This page was generated on 2021-05-06 14:10:04 -0400 (Thu, 06 May 2021).
Package 87/398 | Hostname | OS / Arch | INSTALL | BUILD | CHECK | ||||||||
curatedTCGAData 1.12.1 (landing page) Marcel Ramos
| malbec1 | Linux (Ubuntu 18.04.5 LTS) / x86_64 | OK | OK | OK | ||||||||