Package: ABSSeq Version: 1.46.0 Command: rm -rf ABSSeq.buildbin-libdir && mkdir ABSSeq.buildbin-libdir && /Users/biocbuild/BBS/utils/build-universal.sh ABSSeq_1.46.0.tar.gz /Library/Frameworks/R.framework/Versions/Current/Resources/bin/R ABSSeq.buildbin-libdir StartedAt: 2021-10-15 01:30:38 -0400 (Fri, 15 Oct 2021) EndedAt: 2021-10-15 01:30:47 -0400 (Fri, 15 Oct 2021) EllapsedTime: 9.2 seconds RetCode: 0 Status: OK PackageFile: ABSSeq_1.46.0.tgz PackageFileSize: 1.258 MiB