Package: ABSSeq Version: 1.46.0 Command: chmod a+r ABSSeq -R && C:\Users\biocbuild\bbs-3.13-bioc\R\bin\R.exe CMD build --keep-empty-dirs --no-resave-data ABSSeq StartedAt: 2021-10-14 11:31:26 -0400 (Thu, 14 Oct 2021) EndedAt: 2021-10-14 11:34:01 -0400 (Thu, 14 Oct 2021) EllapsedTime: 155.4 seconds RetCode: 0 Status: OK PackageFile: ABSSeq_1.46.0.tar.gz PackageFileSize: 1.033 MiB