Package: ACE Version: 1.10.0 Command: rm -rf ACE.buildbin-libdir && mkdir ACE.buildbin-libdir && /Users/biocbuild/BBS/utils/build-universal.sh ACE_1.10.0.tar.gz /Library/Frameworks/R.framework/Versions/Current/Resources/bin/R ACE.buildbin-libdir StartedAt: 2021-10-15 01:30:38 -0400 (Fri, 15 Oct 2021) EndedAt: 2021-10-15 01:32:08 -0400 (Fri, 15 Oct 2021) EllapsedTime: 90.4 seconds RetCode: 0 Status: OK PackageFile: ACE_1.10.0.tgz PackageFileSize: 2.46 MiB