Package: ACE Version: 1.10.0 Command: /Library/Frameworks/R.framework/Versions/Current/Resources/bin/R CMD build --keep-empty-dirs --no-resave-data ACE StartedAt: 2021-10-14 10:30:32 -0400 (Thu, 14 Oct 2021) EndedAt: 2021-10-14 10:31:52 -0400 (Thu, 14 Oct 2021) EllapsedTime: 80.2 seconds RetCode: 0 Status: OK PackageFile: ACE_1.10.0.tar.gz PackageFileSize: 2.306 MiB