Package: ACE Version: 1.10.0 Command: /home/biocbuild/bbs-3.13-bioc/R/bin/R CMD build --keep-empty-dirs --no-resave-data ACE StartedAt: 2021-10-14 06:40:21 -0400 (Thu, 14 Oct 2021) EndedAt: 2021-10-14 06:41:10 -0400 (Thu, 14 Oct 2021) EllapsedTime: 48.3 seconds RetCode: 0 Status: OK PackageFile: ACE_1.10.0.tar.gz PackageFileSize: 2.334 MiB